BEGIN:VCALENDAR
VERSION:2.0
PRODID:-//sssh - ECPv6.15.20//NONSGML v1.0//EN
CALSCALE:GREGORIAN
METHOD:PUBLISH
X-WR-CALNAME:sssh
X-ORIGINAL-URL:https://sssh.ch/it/
X-WR-CALDESC:Eventi per sssh
REFRESH-INTERVAL;VALUE=DURATION:PT1H
X-Robots-Tag:noindex
X-PUBLISHED-TTL:PT1H
BEGIN:VTIMEZONE
TZID:Europe/Zurich
BEGIN:DAYLIGHT
TZOFFSETFROM:+0100
TZOFFSETTO:+0200
TZNAME:CEST
DTSTART:20250330T010000
END:DAYLIGHT
BEGIN:STANDARD
TZOFFSETFROM:+0200
TZOFFSETTO:+0100
TZNAME:CET
DTSTART:20251026T010000
END:STANDARD
BEGIN:DAYLIGHT
TZOFFSETFROM:+0100
TZOFFSETTO:+0200
TZNAME:CEST
DTSTART:20260329T010000
END:DAYLIGHT
BEGIN:STANDARD
TZOFFSETFROM:+0200
TZOFFSETTO:+0100
TZNAME:CET
DTSTART:20261025T010000
END:STANDARD
BEGIN:DAYLIGHT
TZOFFSETFROM:+0100
TZOFFSETTO:+0200
TZNAME:CEST
DTSTART:20270328T010000
END:DAYLIGHT
BEGIN:STANDARD
TZOFFSETFROM:+0200
TZOFFSETTO:+0100
TZNAME:CET
DTSTART:20271031T010000
END:STANDARD
END:VTIMEZONE
BEGIN:VEVENT
DTSTART;TZID=Europe/Zurich:20260220T083000
DTEND;TZID=Europe/Zurich:20260613T160000
DTSTAMP:20260423T071537
CREATED:20251029T132452Z
LAST-MODIFIED:20260311T100313Z
UID:48778-1771576200-1781366400@sssh.ch
SUMMARY:Fachkundekurs Assistent Medizinprodukteaufbereitung AMEP
DESCRIPTION:Kursprogramm AMEP-261 \nKursdetails \nAnmeldung
URL:https://sssh.ch/it/eventit/fachkundekurs-assistent-medizinprodukteaufbereitung-amep/
CATEGORIES:Cours spécialisé
END:VEVENT
BEGIN:VEVENT
DTSTART;TZID=Europe/Zurich:20260326T080000
DTEND;TZID=Europe/Zurich:20260430T170000
DTSTAMP:20260423T071537
CREATED:20251028T133137Z
LAST-MODIFIED:20260311T100250Z
UID:48716-1774512000-1777568400@sssh.ch
SUMMARY:Fachkundekurs Assistent Aufbereitung Flexible Endoskope
DESCRIPTION:Kurs AMEP-Flex-261 \nKursdetails \nWeitere Kurse \nAnmeldung
URL:https://sssh.ch/it/eventit/fachkundekurs-assistent-aufbereitung-flexible-endoskope/
CATEGORIES:Cours spécialisé
END:VEVENT
BEGIN:VEVENT
DTSTART;VALUE=DATE:20260423
DTEND;VALUE=DATE:20260425
DTSTAMP:20260423T071537
CREATED:20250929T051555Z
LAST-MODIFIED:20260324T124448Z
UID:48365-1776934800-1777021199@sssh.ch
SUMMARY:Weiterbildund SGSV-DS Thema : Fehlermanagement und Prozessindikatoren in der AEMP
DESCRIPTION:OdA Zürich \n \nAnmeldung
URL:https://sssh.ch/it/eventit/weiterbildund-sgsv-ds-thema-fehlermanagement-und-prozessindikatoren-in-der-aemp/
CATEGORIES:Formation continue
END:VEVENT
BEGIN:VEVENT
DTSTART;TZID=Europe/Zurich:20260505T124500
DTEND;TZID=Europe/Zurich:20260505T164500
DTSTAMP:20260423T071537
CREATED:20260311T094918Z
LAST-MODIFIED:20260311T094918Z
UID:49298-1777985100-1777999500@sssh.ch
SUMMARY:Austauschtreffen zwischen Berufsbildungsverantwortlichen\, Berufsbildner:innen MPT und der OdA Gesundheit Zürich
DESCRIPTION:Mehr Infos
URL:https://sssh.ch/it/eventit/austauschtreffen-zwischen-berufsbildungsverantwortlichen-berufsbildnerinnen-mpt-und-der-oda-gesundheit-zurich/
CATEGORIES:Agenda
END:VEVENT
BEGIN:VEVENT
DTSTART;VALUE=DATE:20260520
DTEND;VALUE=DATE:20260522
DTSTAMP:20260423T071537
CREATED:20250929T051527Z
LAST-MODIFIED:20260409T080647Z
UID:48363-1779267600-1779353999@sssh.ch
SUMMARY:Weiterbildund SGSV-DS und JV Thema : WB zu aktuellen Themen
DESCRIPTION:Spital Muri AG \nAnmeldung
URL:https://sssh.ch/it/eventit/weiterbildund-sgsv-ds-und-jv-thema-wb-zu-aktuellen-themen/
CATEGORIES:Formation continue
END:VEVENT
BEGIN:VEVENT
DTSTART;VALUE=DATE:20260602
DTEND;VALUE=DATE:20260604
DTSTAMP:20260423T071537
CREATED:20251222T164224Z
LAST-MODIFIED:20251222T164224Z
UID:49012-1780390800-1780477199@sssh.ch
SUMMARY:Examens des connaissances professionnelles TDM
DESCRIPTION:Organisateur: écoles \nZurich\, Lausanne\, Lugano
URL:https://sssh.ch/it/eventit/examens-des-connaissances-professionnelles-tdm-2/
CATEGORIES:Agenda
END:VEVENT
BEGIN:VEVENT
DTSTART;VALUE=DATE:20260617
DTEND;VALUE=DATE:20260620
DTSTAMP:20260423T071537
CREATED:20251222T164124Z
LAST-MODIFIED:20260407T083221Z
UID:49010-1781686800-1781859599@sssh.ch
SUMMARY:22es JNSS
DESCRIPTION:Thème: adapter pour adopter \n \nSponsors \nInscriptions
URL:https://sssh.ch/it/eventit/22es-jnss/
LOCATION:Palais des congrès\, Bienne\, Rue Centrale 60\, Bienne\, 2501\, Suisse
CATEGORIES:Agenda
END:VEVENT
BEGIN:VEVENT
DTSTART;TZID=Europe/Zurich:20260828T083000
DTEND;TZID=Europe/Zurich:20261219T120000
DTSTAMP:20260423T071537
CREATED:20260126T070038Z
LAST-MODIFIED:20260311T100222Z
UID:49076-1787905800-1797681600@sssh.ch
SUMMARY:Fachkundekurs Assistent Medizinprodukteaufbereitung AMEP
DESCRIPTION:Kursprogramm AMEP-262 \nKursdetails \nAnmeldung
URL:https://sssh.ch/it/eventit/fachkundekurs-assistent-medizinprodukteaufbereitung-amep-2/
CATEGORIES:Cours spécialisé
END:VEVENT
BEGIN:VEVENT
DTSTART;TZID=Europe/Zurich:20260915T124500
DTEND;TZID=Europe/Zurich:20260915T164500
DTSTAMP:20260423T071537
CREATED:20260311T095313Z
LAST-MODIFIED:20260311T095313Z
UID:49306-1789476300-1789490700@sssh.ch
SUMMARY:Austauschtreffen zwischen Berufsbildungsverantwortlichen\, Berufsbildner:innen MPT und der OdA Gesundheit Zürich
DESCRIPTION:Mehr Infos
URL:https://sssh.ch/it/eventit/austauschtreffen-zwischen-berufsbildungsverantwortlichen-berufsbildnerinnen-mpt-und-der-oda-gesundheit-zurich-2/
CATEGORIES:Agenda
END:VEVENT
BEGIN:VEVENT
DTSTART;TZID=Europe/Zurich:20260917T080000
DTEND;TZID=Europe/Zurich:20261017T160000
DTSTAMP:20260423T071537
CREATED:20260126T070015Z
LAST-MODIFIED:20260311T100153Z
UID:49074-1789632000-1792252800@sssh.ch
SUMMARY:Fachkundekurs Assistent Aufbereitung Flexible Endoskope
DESCRIPTION:Kurs AMEP-Flex-262 \nKursdetails \nAnmeldung
URL:https://sssh.ch/it/eventit/fachkundekurs-assistent-aufbereitung-flexible-endoskope-2/
CATEGORIES:Cours spécialisé
END:VEVENT
BEGIN:VEVENT
DTSTART;TZID=Europe/Zurich:20260923T080000
DTEND;TZID=Europe/Zurich:20260925T170000
DTSTAMP:20260423T071537
CREATED:20251013T072509Z
LAST-MODIFIED:20260223T121852Z
UID:48396-1790150400-1790355600@sssh.ch
SUMMARY:10e congrès de la SF2S
DESCRIPTION:Lieu : Futuroscope\, Poitiers \nPlus d’infos
URL:https://sssh.ch/it/eventit/10e-congres-de-la-sf2s/
CATEGORIES:Agenda
END:VEVENT
BEGIN:VEVENT
DTSTART;VALUE=DATE:20260930
DTEND;VALUE=DATE:20261004
DTSTAMP:20260423T071537
CREATED:20251016T073551Z
LAST-MODIFIED:20260223T122007Z
UID:48501-1790758800-1791017999@sssh.ch
SUMMARY:DGSV-Kongress
DESCRIPTION:Ort: Wolfsburg \nInformationen
URL:https://sssh.ch/it/eventit/dgsv-kongress-8/
CATEGORIES:Agenda
END:VEVENT
BEGIN:VEVENT
DTSTART;VALUE=DATE:20261015
DTEND;VALUE=DATE:20261018
DTSTAMP:20260423T071537
CREATED:20251222T163956Z
LAST-MODIFIED:20260223T122130Z
UID:49008-1792054800-1792227599@sssh.ch
SUMMARY:Congrès québecois
DESCRIPTION:AQRDM\nBoucherville\, Québec\, Canada \nPlus d’infos
URL:https://sssh.ch/it/eventit/congres-quebecois/
CATEGORIES:Agenda
END:VEVENT
BEGIN:VEVENT
DTSTART;VALUE=DATE:20261021
DTEND;VALUE=DATE:20261026
DTSTAMP:20260423T071537
CREATED:20251013T072440Z
LAST-MODIFIED:20260223T122244Z
UID:48394-1792573200-1792918799@sssh.ch
SUMMARY:WFHSS – 27th world sterilization congress
DESCRIPTION:Belgrade\, Serbie \nPlus d’infos
URL:https://sssh.ch/it/eventit/wfhss-27th-world-sterilization-congress/
CATEGORIES:Agenda
END:VEVENT
BEGIN:VEVENT
DTSTART;VALUE=DATE:20261024
DTEND;VALUE=DATE:20261026
DTSTAMP:20260423T071537
CREATED:20260126T070640Z
LAST-MODIFIED:20260324T124640Z
UID:49081-1792832400-1792918799@sssh.ch
SUMMARY:Neuigkeiten rund um die Aufbereitung – Refresher
DESCRIPTION:Spital Muri \nAnmeldung
URL:https://sssh.ch/it/eventit/refresher-2/
CATEGORIES:Formation continue
END:VEVENT
BEGIN:VEVENT
DTSTART;VALUE=DATE:20261106
DTEND;VALUE=DATE:20261109
DTSTAMP:20260423T071537
CREATED:20251013T072414Z
LAST-MODIFIED:20251222T163907Z
UID:48392-1793955600-1794128399@sssh.ch
SUMMARY:6es JIFS (Journées Internationales Francophones de Stérilisation)
DESCRIPTION:Lieu : Hôtel Mövenpick\, Genève
URL:https://sssh.ch/it/eventit/6es-jifs-journees-internationales-francophones-de-sterilisation/
CATEGORIES:Agenda
ATTACH;FMTTYPE=image/jpeg:https://sssh.ch/wp-content/uploads/2025/10/Flyer_JIFS_2026-1.jpg
END:VEVENT
BEGIN:VEVENT
DTSTART;VALUE=DATE:20261121
DTEND;VALUE=DATE:20261123
DTSTAMP:20260423T071537
CREATED:20250929T051457Z
LAST-MODIFIED:20251020T123050Z
UID:48361-1795251600-1795337999@sssh.ch
SUMMARY:Aktuelle Themen rund um die Aufbereitung von Medizinprodukten
DESCRIPTION:Ort wird noch bekannt
URL:https://sssh.ch/it/eventit/aktuelle-themen-rund-um-die-aufbereitung-von-medizinprodukten/
CATEGORIES:Formation continue
END:VEVENT
BEGIN:VEVENT
DTSTART;VALUE=DATE:20261121
DTEND;VALUE=DATE:20261123
DTSTAMP:20260423T071537
CREATED:20251222T163933Z
LAST-MODIFIED:20260324T124559Z
UID:49006-1795251600-1795337999@sssh.ch
SUMMARY:Neuigkeiten rund um die Aufbereitung – Refresher
DESCRIPTION:Spital Muri \nAnmeldung
URL:https://sssh.ch/it/eventit/refresher/
CATEGORIES:Formation continue
END:VEVENT
BEGIN:VEVENT
DTSTART;TZID=Europe/Zurich:20261208T124500
DTEND;TZID=Europe/Zurich:20261208T164500
DTSTAMP:20260423T071537
CREATED:20260311T095245Z
LAST-MODIFIED:20260311T095245Z
UID:49304-1796733900-1796748300@sssh.ch
SUMMARY:Austauschtreffen zwischen Berufsbildungsveranwortlichen\, Berufsbildner:innen MPT und der OdA Gesundheit Zürich
DESCRIPTION:Mehr Infos
URL:https://sssh.ch/it/eventit/austauschtreffen-zwischen-berufsbildungsveranwortlichen-berufsbildnerinnen-mpt-und-der-oda-gesundheit-zurich/
CATEGORIES:Agenda
END:VEVENT
END:VCALENDAR