BEGIN:VCALENDAR
VERSION:2.0
PRODID:-//sssh - ECPv6.15.20//NONSGML v1.0//EN
CALSCALE:GREGORIAN
METHOD:PUBLISH
X-WR-CALNAME:sssh
X-ORIGINAL-URL:https://sssh.ch/it/
X-WR-CALDESC:Eventi per sssh
REFRESH-INTERVAL;VALUE=DURATION:PT1H
X-Robots-Tag:noindex
X-PUBLISHED-TTL:PT1H
BEGIN:VTIMEZONE
TZID:Europe/Zurich
BEGIN:DAYLIGHT
TZOFFSETFROM:+0100
TZOFFSETTO:+0200
TZNAME:CEST
DTSTART:20210328T010000
END:DAYLIGHT
BEGIN:STANDARD
TZOFFSETFROM:+0200
TZOFFSETTO:+0100
TZNAME:CET
DTSTART:20211031T010000
END:STANDARD
BEGIN:DAYLIGHT
TZOFFSETFROM:+0100
TZOFFSETTO:+0200
TZNAME:CEST
DTSTART:20220327T010000
END:DAYLIGHT
BEGIN:STANDARD
TZOFFSETFROM:+0200
TZOFFSETTO:+0100
TZNAME:CET
DTSTART:20221030T010000
END:STANDARD
BEGIN:DAYLIGHT
TZOFFSETFROM:+0100
TZOFFSETTO:+0200
TZNAME:CEST
DTSTART:20230326T010000
END:DAYLIGHT
BEGIN:STANDARD
TZOFFSETFROM:+0200
TZOFFSETTO:+0100
TZNAME:CET
DTSTART:20231029T010000
END:STANDARD
BEGIN:DAYLIGHT
TZOFFSETFROM:+0100
TZOFFSETTO:+0200
TZNAME:CEST
DTSTART:20240331T010000
END:DAYLIGHT
BEGIN:STANDARD
TZOFFSETFROM:+0200
TZOFFSETTO:+0100
TZNAME:CET
DTSTART:20241027T010000
END:STANDARD
BEGIN:DAYLIGHT
TZOFFSETFROM:+0100
TZOFFSETTO:+0200
TZNAME:CEST
DTSTART:20250330T010000
END:DAYLIGHT
BEGIN:STANDARD
TZOFFSETFROM:+0200
TZOFFSETTO:+0100
TZNAME:CET
DTSTART:20251026T010000
END:STANDARD
BEGIN:DAYLIGHT
TZOFFSETFROM:+0100
TZOFFSETTO:+0200
TZNAME:CEST
DTSTART:20260329T010000
END:DAYLIGHT
BEGIN:STANDARD
TZOFFSETFROM:+0200
TZOFFSETTO:+0100
TZNAME:CET
DTSTART:20261025T010000
END:STANDARD
BEGIN:DAYLIGHT
TZOFFSETFROM:+0100
TZOFFSETTO:+0200
TZNAME:CEST
DTSTART:20270328T010000
END:DAYLIGHT
BEGIN:STANDARD
TZOFFSETFROM:+0200
TZOFFSETTO:+0100
TZNAME:CET
DTSTART:20271031T010000
END:STANDARD
END:VTIMEZONE
BEGIN:VEVENT
DTSTART;VALUE=DATE:20260411
DTEND;VALUE=DATE:20260413
DTSTAMP:20260419T162708
CREATED:20251013T072537Z
LAST-MODIFIED:20260223T121731Z
UID:48398-1775898000-1775984399@sssh.ch
SUMMARY:24e congrès de l’ASTER
DESCRIPTION:Lieu : Centre Ecolys\, Namur\, Belgique \nInscription
URL:https://sssh.ch/it/eventit/24e-congres-de-laster/
CATEGORIES:Agenda
END:VEVENT
BEGIN:VEVENT
DTSTART;VALUE=DATE:20260321
DTEND;VALUE=DATE:20260323
DTSTAMP:20260419T162708
CREATED:20251013T074016Z
LAST-MODIFIED:20260313T115326Z
UID:48400-1774083600-1774169999@sssh.ch
SUMMARY:Journée de formation continue+ AG SSSH-Suisse romande
DESCRIPTION:Lieu : Modern Times Hotel\, Vevey \nThème : Processus supports en SRDM \n \nInscriptions closes.
URL:https://sssh.ch/it/eventit/journee-de-formation-continue-ag-sssh-suisse-romande/
CATEGORIES:Agenda
END:VEVENT
BEGIN:VEVENT
DTSTART;VALUE=DATE:20260205
DTEND;VALUE=DATE:20260207
DTSTAMP:20260419T162708
CREATED:20250929T051618Z
LAST-MODIFIED:20251128T082301Z
UID:48367-1770282000-1770368399@sssh.ch
SUMMARY:Weiterbildund SGSV-DS. Thema : Weiterbildung und Austausch mit und für Berufsbildner
DESCRIPTION:OdA G Zürich\, Maneggstrasse 37\, 8041 Zürich \n \nAnmeldung
URL:https://sssh.ch/it/eventit/weiterbildund-sgsv-ds-thema-weiterbildung-und-austausch-mit-und-fur-berufsbildner/
CATEGORIES:Formation continue
ATTACH;FMTTYPE=image/jpeg:https://sssh.ch/wp-content/uploads/2025/11/Programm_Austausch_Berufsbildner-scaled.jpg
END:VEVENT
BEGIN:VEVENT
DTSTART;VALUE=DATE:20260129
DTEND;VALUE=DATE:20260131
DTSTAMP:20260419T162708
CREATED:20251013T074048Z
LAST-MODIFIED:20260113T082951Z
UID:48402-1769677200-1769763599@sssh.ch
SUMMARY:Journée de formation continue pour les TDM CFC et les niveaux 2
DESCRIPTION:Lieu : Hôtel Mövenpick\, Lausanne \nThème : VH2O2\, principes\, validation et contrôles de routine \n \nInscriptions ici
URL:https://sssh.ch/it/eventit/journee-de-formation-continue-pour-les-tdm-cfc-et-les-niveaux-2/
CATEGORIES:Agenda
END:VEVENT
BEGIN:VEVENT
DTSTART;VALUE=DATE:20251203
DTEND;VALUE=DATE:20251208
DTSTAMP:20260419T162708
CREATED:20241114T083737Z
LAST-MODIFIED:20241114T083737Z
UID:46293-1764752400-1765097999@sssh.ch
SUMMARY:26e congrès de la WFHSS
DESCRIPTION:Anglais \nHong-Kong
URL:https://sssh.ch/it/eventit/26e-congres-de-la-wfhss/
CATEGORIES:Agenda
END:VEVENT
BEGIN:VEVENT
DTSTART;TZID=Europe/Zurich:20251023T083000
DTEND;TZID=Europe/Zurich:20251024T120000
DTSTAMP:20260419T162708
CREATED:20250926T054253Z
LAST-MODIFIED:20250926T054253Z
UID:48336-1761208200-1761307200@sssh.ch
SUMMARY:12e congrès national de stérilisation marocain
DESCRIPTION:
URL:https://sssh.ch/it/eventit/12e-congres-national-de-sterilisation-marocain/
LOCATION:Rabat\, Rabat\, Morocco
CATEGORIES:Agenda
ATTACH;FMTTYPE=image/jpeg:https://sssh.ch/wp-content/uploads/2025/09/Affiche-SMS-2025.jpg
END:VEVENT
BEGIN:VEVENT
DTSTART;TZID=Europe/Zurich:20251023T080000
DTEND;TZID=Europe/Zurich:20251024T170000
DTSTAMP:20260419T162708
CREATED:20241114T083802Z
LAST-MODIFIED:20251028T133518Z
UID:46295-1761206400-1761325200@sssh.ch
SUMMARY:Congrès de l'association québéquoise
DESCRIPTION:Français \nAQRDM \nCentre des congrès Lévis | Québec\, CANADA
URL:https://sssh.ch/it/eventit/congres-de-lassociation-quebequoise/
CATEGORIES:Agenda
END:VEVENT
BEGIN:VEVENT
DTSTART;VALUE=DATE:20251004
DTEND;VALUE=DATE:20251006
DTSTAMP:20260419T162708
CREATED:20241114T083826Z
LAST-MODIFIED:20250828T110357Z
UID:46297-1759568400-1759654799@sssh.ch
SUMMARY:Journée de formation continue Suisse romande
DESCRIPTION:Thème: Aspects sécuritaires en SRDM et Remise des prix aux CFC TDM \nGrand Hôtel des bains | Yverdon \n \nInscriptions ici
URL:https://sssh.ch/it/eventit/journee-de-formation-continue-suisse-romande/
CATEGORIES:Agenda
END:VEVENT
BEGIN:VEVENT
DTSTART;VALUE=DATE:20250930
DTEND;VALUE=DATE:20251004
DTSTAMP:20260419T162708
CREATED:20241114T083851Z
LAST-MODIFIED:20250620T125241Z
UID:46299-1759222800-1759481999@sssh.ch
SUMMARY:28e congrès de la DGSV
DESCRIPTION:Kassel Kongress Palais | Kassel | Allemagne \n  \n \nWir freuen uns über eure Anmeldungen bis am 30. Juni 2025.
URL:https://sssh.ch/it/eventit/28e-congres-de-la-dgsv/
CATEGORIES:Agenda
END:VEVENT
BEGIN:VEVENT
DTSTART;VALUE=DATE:20250917
DTEND;VALUE=DATE:20250921
DTSTAMP:20260419T162709
CREATED:20241114T083915Z
LAST-MODIFIED:20250708T150626Z
UID:46301-1758099600-1758358799@sssh.ch
SUMMARY:9e Congrès de la SF2S
DESCRIPTION:Français \nReims | France
URL:https://sssh.ch/it/eventit/9e-congres-de-la-sf2s/
CATEGORIES:Agenda
ATTACH;FMTTYPE=image/jpeg:https://sssh.ch/wp-content/uploads/2024/11/Affiche-congres-SF2-2025.jpg
END:VEVENT
BEGIN:VEVENT
DTSTART;VALUE=DATE:20250618
DTEND;VALUE=DATE:20250621
DTSTAMP:20260419T162709
CREATED:20241015T081959Z
LAST-MODIFIED:20250409T050952Z
UID:45598-1750237200-1750409999@sssh.ch
SUMMARY:21es Journées nationales suisses sur la stérilisation
DESCRIPTION:Thème: Economie et SRDM \nFrançais + allemand \n \nInscriptions
URL:https://sssh.ch/it/eventit/21es-journees-nationales-suisses-sur-la-sterilisation/
LOCATION:Palais des congrès\, Bienne\, Rue Centrale 60\, Bienne\, 2501\, Suisse
CATEGORIES:Agenda
ATTACH;FMTTYPE=image/jpeg:https://sssh.ch/wp-content/uploads/2025/04/SSSH-programme-2025_fr.jpg
END:VEVENT
BEGIN:VEVENT
DTSTART;VALUE=DATE:20250603
DTEND;VALUE=DATE:20250605
DTSTAMP:20260419T162709
CREATED:20241114T083133Z
LAST-MODIFIED:20241114T083133Z
UID:46281-1748941200-1749027599@sssh.ch
SUMMARY:Examens des connaissances professionnelles TDM
DESCRIPTION:Ecoles Zurich\, Lausanne\, Lugano
URL:https://sssh.ch/it/eventit/examens-des-connaissances-professionnelles-tdm/
CATEGORIES:Agenda
END:VEVENT
BEGIN:VEVENT
DTSTART;VALUE=DATE:20250508
DTEND;VALUE=DATE:20250510
DTSTAMP:20260419T162709
CREATED:20241114T082225Z
LAST-MODIFIED:20250310T131939Z
UID:46266-1746694800-1746781199@sssh.ch
SUMMARY:Journée de formation continue  SGSV - DS et AG
DESCRIPTION:Thème: formation sur des thèmes d’actualité \nAllemand \nSalle de séminaire Careum | Zürich
URL:https://sssh.ch/it/eventit/journee-de-formation-continue-sgsv-ds-et-ag/
CATEGORIES:Agenda
END:VEVENT
BEGIN:VEVENT
DTSTART;VALUE=DATE:20250411
DTEND;VALUE=DATE:20250414
DTSTAMP:20260419T162709
CREATED:20241114T083953Z
LAST-MODIFIED:20241114T083953Z
UID:46303-1744362000-1744534799@sssh.ch
SUMMARY:Congrès annuel de l'ASTER
DESCRIPTION:Français \nNamur | Belgique
URL:https://sssh.ch/it/eventit/congres-annuel-de-laster/
CATEGORIES:Agenda
END:VEVENT
BEGIN:VEVENT
DTSTART;VALUE=DATE:20250329
DTEND;VALUE=DATE:20250331
DTSTAMP:20260419T162709
CREATED:20241114T084022Z
LAST-MODIFIED:20250221T122004Z
UID:46305-1743238800-1743325199@sssh.ch
SUMMARY:AG + Journée de formation continue Suisse romande
DESCRIPTION:Thème : Responsabilités associées aux BPRs \nHôtel Aquatis | Lausanne \n \nInscriptions ici
URL:https://sssh.ch/it/eventit/ag-journee-de-formation-continue-suisse-romande/
CATEGORIES:Agenda
END:VEVENT
BEGIN:VEVENT
DTSTART;VALUE=DATE:20250301
DTEND;VALUE=DATE:20250303
DTSTAMP:20260419T162709
CREATED:20241114T082421Z
LAST-MODIFIED:20250214T090608Z
UID:46268-1740819600-1740905999@sssh.ch
SUMMARY:Journée de formation continue SGSV
DESCRIPTION:Thème: Gestion des erreurs et indicateurs de performance dans le SRDM \nAllemand
URL:https://sssh.ch/it/eventit/journee-de-formation-continue-sgsv/
CATEGORIES:Agenda
END:VEVENT
BEGIN:VEVENT
DTSTART;TZID=Europe/Zurich:20250206T083000
DTEND;TZID=Europe/Zurich:20250206T160000
DTSTAMP:20260419T162709
CREATED:20241114T084104Z
LAST-MODIFIED:20250203T152854Z
UID:46307-1738830600-1738857600@sssh.ch
SUMMARY:Journée de formation continue pour les niveaux 2 et les TDM CFC
DESCRIPTION:Thème: Echanges sur les BPRE et les inspections de Swissmedic \nHôtel Möwenpick | Lausanne \n \nInscriptions closes.
URL:https://sssh.ch/it/eventit/journee-de-formation-continue-pour-les-niveaux-2-et-les-tdm-cfc/
LOCATION:Hôtel Mövenpick\, Avenue de Rhodanie 4\, Lausanne\, Switzerland
CATEGORIES:Agenda
END:VEVENT
BEGIN:VEVENT
DTSTART;VALUE=DATE:20250125
DTEND;VALUE=DATE:20250127
DTSTAMP:20260419T162709
CREATED:20241114T082441Z
LAST-MODIFIED:20241209T074346Z
UID:46269-1737795600-1737881999@sssh.ch
SUMMARY:Tätigkeiten der Aufbereitungsprozesse und deren rechtliche Rahmen
DESCRIPTION:Workshop \nUSB | Basel
URL:https://sssh.ch/it/eventit/journee-de-formation-continue-sgsv-ds/
END:VEVENT
BEGIN:VEVENT
DTSTART;VALUE=DATE:20241205
DTEND;VALUE=DATE:20241208
DTSTAMP:20260419T162709
CREATED:20241118T060733Z
LAST-MODIFIED:20241118T060733Z
UID:46315-1733389200-1733561999@sssh.ch
SUMMARY:11e Congrès National de Stérilisation
DESCRIPTION:Société marocaine de stérilisation \nCNRST | Rabat | Maroc
URL:https://sssh.ch/it/eventit/11e-congres-national-de-sterilisation/
CATEGORIES:Agenda
ATTACH;FMTTYPE=image/jpeg:https://sssh.ch/wp-content/uploads/2024/11/IMG-20241114-WA0030.jpg
END:VEVENT
BEGIN:VEVENT
DTSTART;VALUE=DATE:20241120
DTEND;VALUE=DATE:20241125
DTSTAMP:20260419T162709
CREATED:20240528T084959Z
LAST-MODIFIED:20240528T084959Z
UID:44776-1732093200-1732438799@sssh.ch
SUMMARY:WFHSS – 25rd world sterilization congress
DESCRIPTION:Pas d’organisation
URL:https://sssh.ch/it/eventit/wfhss-25rd-world-sterilization-congress/
LOCATION:Santiago de Chili\, Chili
CATEGORIES:Agenda
END:VEVENT
BEGIN:VEVENT
DTSTART;VALUE=DATE:20240930
DTEND;VALUE=DATE:20241004
DTSTAMP:20260419T162709
CREATED:20240528T084936Z
LAST-MODIFIED:20240528T084936Z
UID:44774-1727686800-1727945999@sssh.ch
SUMMARY:27. Jahreskongress der DGSV e.V.
DESCRIPTION:Weitere Informationen und Anmeldung
URL:https://sssh.ch/it/eventit/27-jahreskongress-der-dgsv-e-v/
LOCATION:CongressPark Wolfsburg\, Wolfsburg\, Allemagne
CATEGORIES:Agenda
END:VEVENT
BEGIN:VEVENT
DTSTART;VALUE=DATE:20240925
DTEND;VALUE=DATE:20240929
DTSTAMP:20260419T162709
CREATED:20240528T085039Z
LAST-MODIFIED:20240528T085039Z
UID:44778-1727254800-1727513999@sssh.ch
SUMMARY:8e congrès de la SF2S
DESCRIPTION:Organisation prévue\nInscription congrès\, hôtel Ibis Centre Gare Sud (25 et 26)\, soirée conviviale (26)\, repas du soir (25) : 450.– pour les membres et 850.– pour les non-membres
URL:https://sssh.ch/it/eventit/8e-congres-de-la-sf2s/
LOCATION:Nantes\, France
CATEGORIES:Agenda
END:VEVENT
BEGIN:VEVENT
DTSTART;TZID=Europe/Zurich:20240919T073000
DTEND;TZID=Europe/Zurich:20240920T143000
DTSTAMP:20260419T162709
CREATED:20240530T114446Z
LAST-MODIFIED:20240530T114446Z
UID:44789-1726731000-1726842600@sssh.ch
SUMMARY:Congrès 2024 AQRDM
DESCRIPTION:Thème: Nos bonnes pratiques\, une valeur sûre! \nAu Centre des congrès de Saint-Hyacinthe\, Québec \nProgramme \nSite de l’événement
URL:https://sssh.ch/it/eventit/congres-2024-aqrdm/
CATEGORIES:Agenda
END:VEVENT
BEGIN:VEVENT
DTSTART;VALUE=DATE:20240619
DTEND;VALUE=DATE:20240622
DTSTAMP:20260419T162709
CREATED:20230810T114005Z
LAST-MODIFIED:20240503T092105Z
UID:43625-1718787600-1718960399@sssh.ch
SUMMARY:20es Journées Nationales Suisses sur la Stérilisation
DESCRIPTION:Thème: Climat + stérilisation \nDécouvrez le programme ici: \n \nInscription
URL:https://sssh.ch/it/eventit/20es-journees-nationales-suisses-sur-la-sterilisation/
LOCATION:Palais des congrès\, Bienne\, Rue Centrale 60\, Bienne\, 2501\, Suisse
CATEGORIES:Agenda
ATTACH;FMTTYPE=image/jpeg:https://sssh.ch/wp-content/uploads/2023/08/ster_broschure_a5_2024_titel_fr.jpg
END:VEVENT
BEGIN:VEVENT
DTSTART;TZID=Europe/Zurich:20231004T080000
DTEND;TZID=Europe/Zurich:20231006T170000
DTSTAMP:20260419T162709
CREATED:20221219T165330Z
LAST-MODIFIED:20230919T090421Z
UID:42508-1696406400-1696611600@sssh.ch
SUMMARY:26. DGSV –  Fachkongress der Aufbereitung von MP
DESCRIPTION:Liebes SGSV Mitglied\, \nDie lang ersehnten Weiterbildungen des SGSV sind da. Melde dich für die Weiterbildungen mit dem Link an und Folge uns auf Instagram\, denn da erfährst du aus erster Hand was Sache ist. In Zukunft werden Kurzvideos zu den jeweiligen Themen\, direkt von den Dozenten hochgeladen\, damit du erfährst was der Inhalt\, der jeweiligen Kurse ist. \nLiebe Grüsse\nMario Rocha Sampaio\n\nExcel-Datei\, für diejenigen\, die den Link nicht verwenden können
URL:https://sssh.ch/it/eventit/26-dgsv-fachkongress-der-aufbereitung-von-mp/
LOCATION:KongressPark\, Wolfsburg\, Allemagne
ATTACH;FMTTYPE=image/jpeg:https://sssh.ch/wp-content/uploads/2022/12/Slide-2-2.jpeg
END:VEVENT
BEGIN:VEVENT
DTSTART;VALUE=DATE:20230621
DTEND;VALUE=DATE:20230624
DTSTAMP:20260419T162709
CREATED:20210829T220000Z
LAST-MODIFIED:20230614T073221Z
UID:25796-1687338000-1687510799@sssh.ch
SUMMARY:19es JNSS
DESCRIPTION:Découvrez le programme:
URL:https://sssh.ch/it/eventit/19es-jnss-2/
LOCATION:Palais des congrès\, Bienne\, Rue Centrale 60\, Bienne\, 2501\, Suisse
CATEGORIES:Agenda
END:VEVENT
BEGIN:VEVENT
DTSTART;TZID=Europe/Zurich:20230512T080000
DTEND;TZID=Europe/Zurich:20230512T160000
DTSTAMP:20260419T162709
CREATED:20230403T095325Z
LAST-MODIFIED:20230403T095325Z
UID:42769-1683878400-1683907200@sssh.ch
SUMMARY:22. Jahresversammlung und Weiterbildungsveranstaltung
DESCRIPTION:Programm
URL:https://sssh.ch/it/eventit/22-jahresversammlung-und-weiterbildungsveranstaltung/
LOCATION:Zurich\, Suisse
END:VEVENT
BEGIN:VEVENT
DTSTART;TZID=Europe/Zurich:20221020T080000
DTEND;TZID=Europe/Zurich:20221020T203000
DTSTAMP:20260419T162709
CREATED:20220926T054023Z
LAST-MODIFIED:20220926T054023Z
UID:41719-1666252800-1666297800@sssh.ch
SUMMARY:The Clean Hospitals Day
DESCRIPTION:Informations:
URL:https://sssh.ch/it/eventit/the-clean-hospitals-day/
LOCATION:Genève
END:VEVENT
BEGIN:VEVENT
DTSTART;VALUE=DATE:20220905
DTEND;VALUE=DATE:20220909
DTSTAMP:20260419T162709
CREATED:20220314T073422Z
LAST-MODIFIED:20220314T073422Z
UID:38030-1662368400-1662627599@sssh.ch
SUMMARY:74. Jahrestagung der Deutschen Gesellschaft für Hygiene und Mikrobiologie
DESCRIPTION:Wissenschaftliche Tagungsleitung:\n• Prof. Dr. Andreas Diefenbach\n• Prof. Dr. Petra Gastmeier\n• Prof. Dr. Lothar H. Wieler \nVeranstalter: Deutsche Gesellschaft für Hygiene und Mikrobiologie [DGHM] e. V.\nSprache: deutsch/englisch\nFachgebiete: Hygiene\, Mikrobiologie\, Virologie\, Infektiologie\, Immunologie\, Mykologie\, Parasitologie\, Bakteriologie
URL:https://sssh.ch/it/eventit/74-jahrestagung-der-deutschen-gesellschaft-fur-hygiene-und-mikrobiologie/
LOCATION:Berlin\, Berlin\, Allemagne
END:VEVENT
BEGIN:VEVENT
DTSTART;VALUE=DATE:20220622
DTEND;VALUE=DATE:20220625
DTSTAMP:20260419T162709
CREATED:20210829T220000Z
LAST-MODIFIED:20220429T090526Z
UID:25798-1655888400-1656061199@sssh.ch
SUMMARY:18es JNSS
DESCRIPTION:Thème: Scope sur les scoops… !
URL:https://sssh.ch/it/eventit/18es-jnss/
LOCATION:Palais des congrès\, Bienne\, Rue Centrale 60\, Bienne\, 2501\, Suisse
CATEGORIES:Agenda
END:VEVENT
END:VCALENDAR