BEGIN:VCALENDAR
VERSION:2.0
PRODID:-//sssh - ECPv6.15.20//NONSGML v1.0//EN
CALSCALE:GREGORIAN
METHOD:PUBLISH
X-WR-CALNAME:sssh
X-ORIGINAL-URL:https://sssh.ch/fr/
X-WR-CALDESC:événements pour sssh
REFRESH-INTERVAL;VALUE=DURATION:PT1H
X-Robots-Tag:noindex
X-PUBLISHED-TTL:PT1H
BEGIN:VTIMEZONE
TZID:Europe/Zurich
BEGIN:DAYLIGHT
TZOFFSETFROM:+0100
TZOFFSETTO:+0200
TZNAME:CEST
DTSTART:20230326T010000
END:DAYLIGHT
BEGIN:STANDARD
TZOFFSETFROM:+0200
TZOFFSETTO:+0100
TZNAME:CET
DTSTART:20231029T010000
END:STANDARD
BEGIN:DAYLIGHT
TZOFFSETFROM:+0100
TZOFFSETTO:+0200
TZNAME:CEST
DTSTART:20240331T010000
END:DAYLIGHT
BEGIN:STANDARD
TZOFFSETFROM:+0200
TZOFFSETTO:+0100
TZNAME:CET
DTSTART:20241027T010000
END:STANDARD
BEGIN:DAYLIGHT
TZOFFSETFROM:+0100
TZOFFSETTO:+0200
TZNAME:CEST
DTSTART:20250330T010000
END:DAYLIGHT
BEGIN:STANDARD
TZOFFSETFROM:+0200
TZOFFSETTO:+0100
TZNAME:CET
DTSTART:20251026T010000
END:STANDARD
END:VTIMEZONE
BEGIN:VEVENT
DTSTART;VALUE=DATE:20240323
DTEND;VALUE=DATE:20240325
DTSTAMP:20260424T062928
CREATED:20240208T073209Z
LAST-MODIFIED:20240325T063711Z
UID:44306-1711184400-1711270799@sssh.ch
SUMMARY:Journée de formation continue
DESCRIPTION:AG: Election du comité et des membres de la COMSTE \nThème: Le lavage : rappel et nouveautés \nVoir le programme
URL:https://sssh.ch/fr/evenement/journee-de-formation-continue-14/
LOCATION:CHUV\, Lausanne\, Suisse
CATEGORIES:Agenda
ATTACH;FMTTYPE=image/jpeg:https://sssh.ch/wp-content/uploads/2024/02/20240323-Programme-journee-de-formationAG-V3-scaled.jpg
END:VEVENT
END:VCALENDAR