BEGIN:VCALENDAR
VERSION:2.0
PRODID:-//sssh - ECPv6.15.20//NONSGML v1.0//EN
CALSCALE:GREGORIAN
METHOD:PUBLISH
X-ORIGINAL-URL:https://sssh.ch/fr/
X-WR-CALDESC:événements pour sssh
REFRESH-INTERVAL;VALUE=DURATION:PT1H
X-Robots-Tag:noindex
X-PUBLISHED-TTL:PT1H
BEGIN:VTIMEZONE
TZID:Europe/Zurich
BEGIN:DAYLIGHT
TZOFFSETFROM:+0100
TZOFFSETTO:+0200
TZNAME:CEST
DTSTART:20240331T010000
END:DAYLIGHT
BEGIN:STANDARD
TZOFFSETFROM:+0200
TZOFFSETTO:+0100
TZNAME:CET
DTSTART:20241027T010000
END:STANDARD
BEGIN:DAYLIGHT
TZOFFSETFROM:+0100
TZOFFSETTO:+0200
TZNAME:CEST
DTSTART:20250330T010000
END:DAYLIGHT
BEGIN:STANDARD
TZOFFSETFROM:+0200
TZOFFSETTO:+0100
TZNAME:CET
DTSTART:20251026T010000
END:STANDARD
BEGIN:DAYLIGHT
TZOFFSETFROM:+0100
TZOFFSETTO:+0200
TZNAME:CEST
DTSTART:20260329T010000
END:DAYLIGHT
BEGIN:STANDARD
TZOFFSETFROM:+0200
TZOFFSETTO:+0100
TZNAME:CET
DTSTART:20261025T010000
END:STANDARD
END:VTIMEZONE
BEGIN:VEVENT
DTSTART;TZID=Europe/Zurich:20250206T083000
DTEND;TZID=Europe/Zurich:20250206T160000
DTSTAMP:20260420T040419
CREATED:20241114T082606Z
LAST-MODIFIED:20250203T152816Z
UID:46270-1738830600-1738857600@sssh.ch
SUMMARY:Journée de formation continue pour les niveaux 2 et les TDM CFC
DESCRIPTION:Thème: Echanges sur les BPRE et les inspections de Swissmedic \nHôtel Möwenpick | Lausanne \n \nInscriptions closes.
URL:https://sssh.ch/fr/evenement/journee-de-formation-continue-pour-les-niveaux-2-et-les-tdm-cfc/
LOCATION:Hôtel Mövenpick\, Avenue de Rhodanie 4\, Lausanne\, Switzerland
CATEGORIES:Agenda
END:VEVENT
END:VCALENDAR