BEGIN:VCALENDAR
VERSION:2.0
PRODID:-//sssh - ECPv6.15.20//NONSGML v1.0//EN
CALSCALE:GREGORIAN
METHOD:PUBLISH
X-ORIGINAL-URL:https://sssh.ch/fr/
X-WR-CALDESC:événements pour sssh
REFRESH-INTERVAL;VALUE=DURATION:PT1H
X-Robots-Tag:noindex
X-PUBLISHED-TTL:PT1H
BEGIN:VTIMEZONE
TZID:Europe/Zurich
BEGIN:DAYLIGHT
TZOFFSETFROM:+0100
TZOFFSETTO:+0200
TZNAME:CEST
DTSTART:20230326T010000
END:DAYLIGHT
BEGIN:STANDARD
TZOFFSETFROM:+0200
TZOFFSETTO:+0100
TZNAME:CET
DTSTART:20231029T010000
END:STANDARD
BEGIN:DAYLIGHT
TZOFFSETFROM:+0100
TZOFFSETTO:+0200
TZNAME:CEST
DTSTART:20240331T010000
END:DAYLIGHT
BEGIN:STANDARD
TZOFFSETFROM:+0200
TZOFFSETTO:+0100
TZNAME:CET
DTSTART:20241027T010000
END:STANDARD
BEGIN:DAYLIGHT
TZOFFSETFROM:+0100
TZOFFSETTO:+0200
TZNAME:CEST
DTSTART:20250330T010000
END:DAYLIGHT
BEGIN:STANDARD
TZOFFSETFROM:+0200
TZOFFSETTO:+0100
TZNAME:CET
DTSTART:20251026T010000
END:STANDARD
END:VTIMEZONE
BEGIN:VEVENT
DTSTART;TZID=Europe/Zurich:20241109T084500
DTEND;TZID=Europe/Zurich:20241109T161500
DTSTAMP:20260420T141944
CREATED:20240208T074024Z
LAST-MODIFIED:20241113T150532Z
UID:44318-1731141900-1731168900@sssh.ch
SUMMARY:Journée de formation continue
DESCRIPTION:Thème: Remise des prix CFC + autres\, à définir en fonction de l’actualité et de vos réponses \n \n 
URL:https://sssh.ch/fr/evenement/journee-de-formation-continue-15/
LOCATION:Crown Plaza\, Genève\, Suisse
CATEGORIES:Agenda
END:VEVENT
END:VCALENDAR