BEGIN:VCALENDAR
VERSION:2.0
PRODID:-//sssh - ECPv6.15.20//NONSGML v1.0//EN
CALSCALE:GREGORIAN
METHOD:PUBLISH
X-ORIGINAL-URL:https://sssh.ch/fr/
X-WR-CALDESC:événements pour sssh
REFRESH-INTERVAL;VALUE=DURATION:PT1H
X-Robots-Tag:noindex
X-PUBLISHED-TTL:PT1H
BEGIN:VTIMEZONE
TZID:Europe/Zurich
BEGIN:DAYLIGHT
TZOFFSETFROM:+0100
TZOFFSETTO:+0200
TZNAME:CEST
DTSTART:20230326T010000
END:DAYLIGHT
BEGIN:STANDARD
TZOFFSETFROM:+0200
TZOFFSETTO:+0100
TZNAME:CET
DTSTART:20231029T010000
END:STANDARD
BEGIN:DAYLIGHT
TZOFFSETFROM:+0100
TZOFFSETTO:+0200
TZNAME:CEST
DTSTART:20240331T010000
END:DAYLIGHT
BEGIN:STANDARD
TZOFFSETFROM:+0200
TZOFFSETTO:+0100
TZNAME:CET
DTSTART:20241027T010000
END:STANDARD
BEGIN:DAYLIGHT
TZOFFSETFROM:+0100
TZOFFSETTO:+0200
TZNAME:CEST
DTSTART:20250330T010000
END:DAYLIGHT
BEGIN:STANDARD
TZOFFSETFROM:+0200
TZOFFSETTO:+0100
TZNAME:CET
DTSTART:20251026T010000
END:STANDARD
END:VTIMEZONE
BEGIN:VEVENT
DTSTART;TZID=Europe/Zurich:20240919T073000
DTEND;TZID=Europe/Zurich:20240920T143000
DTSTAMP:20260421T035813
CREATED:20240530T114347Z
LAST-MODIFIED:20240530T114413Z
UID:44779-1726731000-1726842600@sssh.ch
SUMMARY:Congrès 2024 AQRDM
DESCRIPTION:Thème: Nos bonnes pratiques\, une valeur sûre! \nAu Centre des congrès de Saint-Hyacinthe\, Québec \nProgramme \nSite de l’événement
URL:https://sssh.ch/fr/evenement/congres-2024-aqrdm/
CATEGORIES:Agenda
END:VEVENT
END:VCALENDAR